BEGIN:VCALENDAR
VERSION:2.0
PRODID:-//All Care - ECPv6.15.16//NONSGML v1.0//EN
CALSCALE:GREGORIAN
METHOD:PUBLISH
X-ORIGINAL-URL:https://allcare.org
X-WR-CALDESC:Events for All Care
REFRESH-INTERVAL;VALUE=DURATION:PT1H
X-Robots-Tag:noindex
X-PUBLISHED-TTL:PT1H
BEGIN:VTIMEZONE
TZID:America/New_York
BEGIN:DAYLIGHT
TZOFFSETFROM:-0500
TZOFFSETTO:-0400
TZNAME:EDT
DTSTART:20250309T070000
END:DAYLIGHT
BEGIN:STANDARD
TZOFFSETFROM:-0400
TZOFFSETTO:-0500
TZNAME:EST
DTSTART:20251102T060000
END:STANDARD
BEGIN:DAYLIGHT
TZOFFSETFROM:-0500
TZOFFSETTO:-0400
TZNAME:EDT
DTSTART:20260308T070000
END:DAYLIGHT
BEGIN:STANDARD
TZOFFSETFROM:-0400
TZOFFSETTO:-0500
TZNAME:EST
DTSTART:20261101T060000
END:STANDARD
BEGIN:DAYLIGHT
TZOFFSETFROM:-0500
TZOFFSETTO:-0400
TZNAME:EDT
DTSTART:20270314T070000
END:DAYLIGHT
BEGIN:STANDARD
TZOFFSETFROM:-0400
TZOFFSETTO:-0500
TZNAME:EST
DTSTART:20271107T060000
END:STANDARD
END:VTIMEZONE
BEGIN:VEVENT
DTSTART;TZID=America/New_York:20260218T143000
DTEND;TZID=America/New_York:20260218T153000
DTSTAMP:20260422T044103
CREATED:20250314T183329Z
LAST-MODIFIED:20251222T190402Z
UID:990000388-1771425000-1771428600@allcare.org
SUMMARY:Life After Loss of a Spouse Virtual Support Group
DESCRIPTION:All Care’s Life After Loss of a Spouse or Partner virtual support group is a safe\, compassionate space where individuals who have experienced the death of a spouse or partner can come together to share their feelings\, experiences\, and challenges. The group provides emotional support\, understanding\, and connection for those navigating the complex journey of grief. \nThe Life After Loss of a Spouse or Partner virtual support group is facilitated by a licensed social worker with years of experience supporting those experiencing a loss. Instructions for logging in to the virtual support group will be sent via email following registration. \nAll Grief Support Events are free and open to the community. Pre-registration is required to participate. Please contact our Bereavement Coordinator\, Trish Crean\, LSW\, at 781-244-1198 or bereavement@allcare.org to register or learn more. Support resources can be found on our website at Grief and Loss Support. Additional support and information can be found at the Hospice & Palliative Care Federation of Massachusetts.
URL:https://allcare.org/event/loss-spouse/2026-02-18/
LOCATION:Virtual Support Group
CATEGORIES:Bereavement
ATTACH;FMTTYPE=image/png:https://allcare.org/wp-content/uploads/2025/12/Loss-Spouse-Partner-web-1.png
ORGANIZER;CN="Trish Crean":MAILTO:pcrean@allcare.org
END:VEVENT
BEGIN:VEVENT
DTSTART;TZID=America/New_York:20260223T140000
DTEND;TZID=America/New_York:20260223T160000
DTSTAMP:20260422T044103
CREATED:20260116T210435Z
LAST-MODIFIED:20260116T210435Z
UID:990001103-1771855200-1771862400@allcare.org
SUMMARY:February 2026 Newly Bereaved\, In-Person Grief Support Group
DESCRIPTION:All Care’s February in-person Newly Bereaved Grief Support Group is for those who have recently experienced a loss. This group provides a safe\, compassionate space to share feelings\, learn what to expect in early grief\, and connect with others who understand\, offering comfort\, guidance\, and support during the first steps of the grieving journey. \nThe February 23\, 2026 Newly Bereaved Grief Support Group is an in-person group facilitated by a licensed social worker with years of experience supporting those experiencing a loss. Instructions for logging in to the workshop will be sent via email following registration. \nAll Grief Support Events are free and open to the community. Pre-registration is required to participate. Please contact our Bereavement Coordinator\, Trish Crean\, LSW\, at 781-244-1198 or bereavement@allcare.org to register or learn more. Support resources can be found on our website at Grief and Loss Support. Additional support and information can be found at the Hospice & Palliative Care Federation of Massachusetts.
URL:https://allcare.org/event/february-newly-bereaved-in-person-grief-support-group/
LOCATION:All Care Center for Grief & Loss\, 210 Market Street\, Lynn\, MA\, 01901\, United States
CATEGORIES:Bereavement
ATTACH;FMTTYPE=image/png:https://allcare.org/wp-content/uploads/2025/12/Newly-Bereaved-Dragonfly-inperson-web-1.png
ORGANIZER;CN="Trish Crean":MAILTO:pcrean@allcare.org
END:VEVENT
BEGIN:VEVENT
DTSTART;TZID=America/New_York:20260226T180000
DTEND;TZID=America/New_York:20260226T200000
DTSTAMP:20260422T044103
CREATED:20260116T205828Z
LAST-MODIFIED:20260116T210117Z
UID:990001102-1772128800-1772136000@allcare.org
SUMMARY:February 2026 Newly Bereaved\, Virtual Grief Support Group
DESCRIPTION:All Care’s February Newly Bereaved Grief Support Group is for those who have recently experienced a loss. This group provides a safe\, compassionate space to share feelings\, learn what to expect in early grief\, and connect with others who understand\, offering comfort\, guidance\, and support during the first steps of the grieving journey. \nThe February 26\, 2026 Newly Bereaved Grief Support Group is a virtual group facilitated by a licensed social worker with years of experience supporting those experiencing a loss. Instructions for logging in to the workshop will be sent via email following registration. \nAll Grief Support Events are free and open to the community. Pre-registration is required to participate. Please contact our Bereavement Coordinator\, Trish Crean\, LSW\, at 781-244-1198 or bereavement@allcare.org to register or learn more. Support resources can be found on our website at Grief and Loss Support. Additional support and information can be found at the Hospice & Palliative Care Federation of Massachusetts.
URL:https://allcare.org/event/february-newly-bereaved-virtual-grief-support-group/
LOCATION:Virtual Support Group
CATEGORIES:Bereavement
ATTACH;FMTTYPE=image/png:https://allcare.org/wp-content/uploads/2025/12/Newly-Bereaved-virtual-web-1.png
ORGANIZER;CN="Trish Crean":MAILTO:pcrean@allcare.org
END:VEVENT
END:VCALENDAR